BEGIN:VCALENDAR
VERSION:2.0
PRODID:-//Boston Southwest Association - ECPv6.15.20//NONSGML v1.0//EN
CALSCALE:GREGORIAN
METHOD:PUBLISH
X-WR-CALNAME:Boston Southwest Association
X-ORIGINAL-URL:https://bostonsouthwest.org
X-WR-CALDESC:Events for Boston Southwest Association
REFRESH-INTERVAL;VALUE=DURATION:PT1H
X-Robots-Tag:noindex
X-PUBLISHED-TTL:PT1H
BEGIN:VTIMEZONE
TZID:UTC
BEGIN:STANDARD
TZOFFSETFROM:+0000
TZOFFSETTO:+0000
TZNAME:UTC
DTSTART:20240101T000000
END:STANDARD
END:VTIMEZONE
BEGIN:VEVENT
DTSTART;VALUE=DATE:20250209
DTEND;VALUE=DATE:20250210
DTSTAMP:20260420T151816
CREATED:20250109T200549Z
LAST-MODIFIED:20250109T201243Z
UID:2154-1739059200-1739145599@bostonsouthwest.org
SUMMARY:Celebration of American Baptist Churches USA Sunday
DESCRIPTION:Save the Date for ABCUSA Sunday –\nFebruary 9 or 16!\n\n\n\n\n\n\n\n\n\n\n\n\n\n\n\n\n  \nDear ABCUSA Family\, \n  \nGet ready for an uplifting and mission-driven Sunday as we celebrate American Baptist Churches USA Sunday this February! This special event offers a wonderful opportunity for us to come together in unity and purpose\, honoring our history while looking forward to our future. \n  \nAs Matthew 28:19-20 reminds us\, “Therefore go and make disciples of all nations… and surely I am with you always\, to the very end of the age.” \n  \nThis year’s theme\, “Serving with Love\, Transforming through Mission\,” captures the essence of our calling. \n  \nChoose to celebrate on February 9 or 16\, or a Sunday of your choosing\, depending on what works best for your congregation. \n  \nAll the resources you need are available on the ABCUSA website at abc-usa.org/abcusasunday\n  \n\nVideos: Downloadable videos are available for you to show to your congregation. Feel free to post them on social media\, your church website\, or include links in your newsletters/emails.\n\n\nBulletin Inserts: Use our bulletin inserts to tell the ABCUSA story.\n\n\nOnline Toolkit: Access a variety of resources in our United Mission Toolkit\, including articles\, sermons\, webinars\, and more. Visit www.abc-usa.org/united-mission-toolkit.\n\n\nPoster: A downloadable\, legal-sized poster will be available for you to print and display\, helping to promote ABCUSA Sunday within your community.\n\n\nPrayer: Include in your celebration a prayer for our ABCUSA leaders\, partners\, global servants\, and local churches. Give thanks for how God has blessed us with a rich history and continue to seek God’s mission\, as we are United in Christ\, Together in Mission.\n\n  \nAs part of this special observance\, we invite you to give generously to support the vital work of American Baptist Churches USA. Together\, we can continue to make a meaningful impact on lives and communities\, advancing the work of Christ. Please join us in this important opportunity to give\, pray\, and serve. \n  \nLet’s unite in the spirit of mission and discipleship as we celebrate ABCUSA Sunday. Your involvement and support this February will help spread the message of our shared mission and provide a meaningful opportunity for a congregational offering that will strengthen our collective efforts. \n  \nBlessings\, \nRev. Dr. Gina Jacobs-Strain \nGeneral Secretary \nAmerican Baptist Churches USA \n\n\n\n\n  \n\n\n\n\n\n\n\n \n\n\n\n\n\n\n\n\n\n\n\n\n\n\n\n\n\n\n\n\n\n\n\n\n\n\n\n\n\n\n\n\n\n\n \n\n\n\n\n\n\n\n\n\n\n\n\n\n\n\n\n	« All Events\n \n\n	Celebration of American Baptist Churches USA Sunday\n			February 9\n	 \n\n	Categories:\n		American Baptist Churches USA	 \n\n	American Baptist Churches USA\n\n					\n						\n	 \nView Organizer Website \n\n					\n						\n	 \n\n	\n	Add to calendar	\n		\n	\n \n\n\n	Google Calendar\n\n\n	iCalendar\n\n\n	Outlook 365\n\n\n	Outlook Live\n\n\n\n\n\n\n				Annual Fall Association Meeting	\n\n\n	\n		Annual Spring Association Meeting
URL:https://bostonsouthwest.org/event/celebration-of-american-baptist-churches-usa-sunday/
LOCATION:MA
CATEGORIES:American Baptist Churches USA
ATTACH;FMTTYPE=image/jpeg:https://bostonsouthwest.org/wp-content/uploads/2025/01/Screenshot_20250109_150326_Gmail.jpg
END:VEVENT
END:VCALENDAR